BEGIN:VCALENDAR
VERSION:2.0
PRODID:-//1. Deutsch - Wagramer Fischerreichverein - ECPv6.15.12.2//NONSGML v1.0//EN
CALSCALE:GREGORIAN
METHOD:PUBLISH
X-WR-CALNAME:1. Deutsch - Wagramer Fischerreichverein
X-ORIGINAL-URL:https://www.fischen-im-marchfeld.at
X-WR-CALDESC:Veranstaltungen für 1. Deutsch - Wagramer Fischerreichverein
REFRESH-INTERVAL;VALUE=DURATION:PT1H
X-Robots-Tag:noindex
X-PUBLISHED-TTL:PT1H
BEGIN:VTIMEZONE
TZID:Europe/Vienna
BEGIN:DAYLIGHT
TZOFFSETFROM:+0100
TZOFFSETTO:+0200
TZNAME:CEST
DTSTART:20240331T010000
END:DAYLIGHT
BEGIN:STANDARD
TZOFFSETFROM:+0200
TZOFFSETTO:+0100
TZNAME:CET
DTSTART:20241027T010000
END:STANDARD
BEGIN:DAYLIGHT
TZOFFSETFROM:+0100
TZOFFSETTO:+0200
TZNAME:CEST
DTSTART:20250330T010000
END:DAYLIGHT
BEGIN:STANDARD
TZOFFSETFROM:+0200
TZOFFSETTO:+0100
TZNAME:CET
DTSTART:20251026T010000
END:STANDARD
BEGIN:DAYLIGHT
TZOFFSETFROM:+0100
TZOFFSETTO:+0200
TZNAME:CEST
DTSTART:20260329T010000
END:DAYLIGHT
BEGIN:STANDARD
TZOFFSETFROM:+0200
TZOFFSETTO:+0100
TZNAME:CET
DTSTART:20261025T010000
END:STANDARD
BEGIN:DAYLIGHT
TZOFFSETFROM:+0100
TZOFFSETTO:+0200
TZNAME:CEST
DTSTART:20270328T010000
END:DAYLIGHT
BEGIN:STANDARD
TZOFFSETFROM:+0200
TZOFFSETTO:+0100
TZNAME:CET
DTSTART:20271031T010000
END:STANDARD
END:VTIMEZONE
BEGIN:VEVENT
DTSTART;TZID=Europe/Vienna:20260117T140000
DTEND;TZID=Europe/Vienna:20260123T190000
DTSTAMP:20260419T221309
CREATED:20251219T201547Z
LAST-MODIFIED:20251219T205339Z
UID:2251-1768658400-1769194800@www.fischen-im-marchfeld.at
SUMMARY:Lizenzausgabe und Hauptversammlung 2026
DESCRIPTION:Sehr geehrte Fischerkollegin  Sehr geehrter Fischerkollege \nWir hoffen dass du ein erfolgreiches Fischerjahr 2025 gehabt hast und möchten dich auf die Verlängerung  deiner Lizenz 2026 aufmerksam machen. \nDie Lizenzausgabe für alle Reviere findet statt im:\nRestaurant Seinerzeit\nGänserndorferstrasse 60\n2232 Deutscdh Wagram \n1. Lizenzausgabetermin: Samstag 17. Jänner 2026 von 14-16 Uhr\n2. Lizenzausgabetermin: Freitag 23. Jänner 2026 von 17-19 Uhr anschließend findet unsere Hauptversammlung statt \nNicht abgeholte Lizenzen werden ab Jänner an Neuinteressenten vergeben. \nRevier Rußbach: € 250 (inkl.Mitgliedsbeitrag)\nRevier Marchfeldkanal: € 300 (inkl. Mitgliedsbeitrag)\nMitgliedsbeitrag: € 25\nKarten können vor Ort nur gelöst werden\, wenn ein Nachweis der Verlängerung der amtlichen Fischerkarte und der ausgefüllte Fangbericht 2025 vorgelegt wird. \nKontaktloser Lizenzversand ist unter folgenden Bedingungen möglich:\nFangbericht und Lizenz 2025 einscannen und mailen (c.tatzber@gmx.at)\nZahlungseingang auf unserem Vereinskonto bei der Reika Deutsch Wagram: IBAN: AT 50 3209 2000 0002 8696 \nWichtiger Hinweis: der Nachweis für dei Verlängerung der Amtlichen Niederösterrreichischen Fischerkarte ist immer mitzuführen. \nEuer Team Erster Deutsch Wagramer Fischereiverein \n  \n 
URL:https://www.fischen-im-marchfeld.at/event/lizenzausgabe-und-hauptversammlung-2026/
LOCATION:Restaurant Seinerzeit\, Gänserndorferstrasse 60\, Deutsch Wagram\, 2232\, Austria
END:VEVENT
BEGIN:VEVENT
DTSTART;VALUE=DATE:20250910
DTEND;VALUE=DATE:20250911
DTSTAMP:20260419T221309
CREATED:20250821T183623Z
LAST-MODIFIED:20250821T183623Z
UID:483-1757462400-1757548799@www.fischen-im-marchfeld.at
SUMMARY:Großes Finale
DESCRIPTION:Übergabe der Dokumentation
URL:https://www.fischen-im-marchfeld.at/event/grosses-finale/
END:VEVENT
BEGIN:VEVENT
DTSTART;TZID=Europe/Vienna:20250825T080000
DTEND;TZID=Europe/Vienna:20250831T170000
DTSTAMP:20260419T221309
CREATED:20250821T183459Z
LAST-MODIFIED:20250821T183459Z
UID:481-1756108800-1756659600@www.fischen-im-marchfeld.at
SUMMARY:Bilder & Text
DESCRIPTION:Abklärung welche Bilder und welcher Text veröffentlicht werden soll.
URL:https://www.fischen-im-marchfeld.at/event/bilder-text/
END:VEVENT
BEGIN:VEVENT
DTSTART;TZID=Europe/Vienna:20250823T080000
DTEND;TZID=Europe/Vienna:20250824T203000
DTSTAMP:20260419T221309
CREATED:20250821T183242Z
LAST-MODIFIED:20250821T183242Z
UID:479-1755936000-1756067400@www.fischen-im-marchfeld.at
SUMMARY:Testphase
DESCRIPTION:Desing und Funktionalität der Webseite auf folgenden Geräten testen: \n\ngroßer Bildschirm\nTablets\nHandy\ninklusive Mail
URL:https://www.fischen-im-marchfeld.at/event/testphase/
END:VEVENT
BEGIN:VEVENT
DTSTART;TZID=Europe/Vienna:20250822T080000
DTEND;TZID=Europe/Vienna:20250822T150000
DTSTAMP:20260419T221309
CREATED:20250821T163259Z
LAST-MODIFIED:20250821T163259Z
UID:456-1755849600-1755874800@www.fischen-im-marchfeld.at
SUMMARY:Design
DESCRIPTION:Design anpassen: \n\nBilder einfügen\nFarben anpassen\nMenü Layout anpassen
URL:https://www.fischen-im-marchfeld.at/event/design/
END:VEVENT
BEGIN:VEVENT
DTSTART;VALUE=DATE:20250821
DTEND;VALUE=DATE:20250822
DTSTAMP:20260419T221309
CREATED:20250821T162906Z
LAST-MODIFIED:20250821T162906Z
UID:452-1755734400-1755820799@www.fischen-im-marchfeld.at
SUMMARY:Es geht los !
DESCRIPTION:Start mit der Erstellung der Webpräsenz des 1. Deutsch – Wagramer Fischereivereins
URL:https://www.fischen-im-marchfeld.at/event/es-geht-los/
LOCATION:Bauhütte
END:VEVENT
BEGIN:VEVENT
DTSTART;TZID=Europe/Vienna:20250814T080000
DTEND;TZID=Europe/Vienna:20250814T170000
DTSTAMP:20260419T221309
CREATED:20250826T152356Z
LAST-MODIFIED:20250826T152356Z
UID:1818-1755158400-1755190800@www.fischen-im-marchfeld.at
SUMMARY:Test Location
DESCRIPTION:Test für Google Maps
URL:https://www.fischen-im-marchfeld.at/event/test-location/
LOCATION:Zentrum\, Stephansplatz 1\, Wien\, 1010\, Austria
END:VEVENT
BEGIN:VEVENT
DTSTART;TZID=Europe/Vienna:20250813T120000
DTEND;TZID=Europe/Vienna:20250813T170000
DTSTAMP:20260419T221309
CREATED:20250821T165834Z
LAST-MODIFIED:20250821T165834Z
UID:474-1755086400-1755104400@www.fischen-im-marchfeld.at
SUMMARY:Vorbesprechung
DESCRIPTION:
URL:https://www.fischen-im-marchfeld.at/event/vorbesprechung/
END:VEVENT
END:VCALENDAR